BEGIN:VCALENDAR
VERSION:2.0
PRODID:-//https://ehbohilversum.nl///NONSGML kigkonsult.se iCalcreator 2.10.15//
METHOD:PUBLISH
BEGIN:VEVENT
UID:20260425T171109UTC-5299mCBU36@https://ehbohilversum.nl/
DTSTAMP:20260425T171109Z
DESCRIPTION:&nbsp\;\n\n\n\n&nbsp\;\n&nbsp\;\n\n\nDatum:\nDinsdag 18 novembe
 r 2025\n\n\nTijd\n19:00 uur - 22:00 uur\n\n\nOmschrijving\nBasiscursus rea
 nimatie- en AED\n\n\nPlaats:\nLeslokaal EHBO Hilversum\n\n\n&nbsp\;\nFranc
 iscusweg 20a (nieuwe locatie)\n\n\n&nbsp\;\n1216 SK Hilversum\n\n\nBelangr
 ijk:\nNa inschrijving kunt u met iDEAL uw cursusgeld voldoen.\n\n\n\n&nbsp
 \;\n&nbsp\; https://ehbohilversum.nl/component/rseventspro/evenement/232-r
 eanimatie-en-aed-18-11-25-b?Itemid=101
DTSTART:20251118T180000Z
DTEND:20251118T210000Z
LOCATION:Leslokaal EHBO Hilversum (Bovenverdieping) (Franciscusweg 20A\, 12
 16 SK Hilversum\, Nederland)
SUMMARY:Reanimatie- en AED 18-11-25 B
URL:https://ehbohilversum.nl/component/rseventspro/evenement/232-reanimatie
 -en-aed-18-11-25-b?Itemid=101
END:VEVENT
END:VCALENDAR
